BEGIN:VCALENDAR
VERSION:2.0
METHOD:PUBLISH
PRODID:-//imacoda.com//SPD-Web-O-Mat//EN
CALSCALE:GREGORIAN
BEGIN:VTIMEZONE
TZID:Europe/Berlin
BEGIN:DAYLIGHT
TZOFFSETFROM:+0100
RRULE:FREQ=YEARLY;BYMONTH=3;BYDAY=-1SU
DTSTART:19810329T020000
TZNAME:MESZ
TZOFFSETTO:+0200
END:DAYLIGHT
BEGIN:STANDARD
TZOFFSETFROM:+0200
RRULE:FREQ=YEARLY;BYMONTH=10;BYDAY=-1SU
DTSTART:19961027T030000
TZNAME:MEZ
TZOFFSETTO:+0100
END:STANDARD
END:VTIMEZONE
BEGIN:VEVENT
UID:20241219T212419Z-00000989571-LULU@www.bayernspd.de
CREATED:20241219T212419Z
LAST-MODIFIED:20250103T211143Z
DTSTAMP:20250103T211143Z
TRANSP:TRANSPARENT
DTSTART;TZID=Europe/Berlin:20250112T100000
DTEND;TZID=Europe/Berlin:20250112T120000
SUMMARY:Neujahrsempfang des SPD-Kreisverbands Kitzingen
LOCATION:Schelfenhaus\, Schelfengasse 1\, Volkach
DESCRIPTION:Termin im Web (SPD-Kreisverband Kitzingen):\nhttps://spd-kit
 zingen.de/termine/?id=989571
END:VEVENT
END:VCALENDAR
